BEGIN:VCALENDAR
VERSION:2.0
PRODID:-//Making Family History - ECPv6.15.20//NONSGML v1.0//EN
CALSCALE:GREGORIAN
METHOD:PUBLISH
X-WR-CALNAME:Making Family History
X-ORIGINAL-URL:https://makingfamilyhistory.com
X-WR-CALDESC:Events for Making Family History
REFRESH-INTERVAL;VALUE=DURATION:PT1H
X-Robots-Tag:noindex
X-PUBLISHED-TTL:PT1H
BEGIN:VTIMEZONE
TZID:America/Vancouver
BEGIN:DAYLIGHT
TZOFFSETFROM:-0800
TZOFFSETTO:-0700
TZNAME:PDT
DTSTART:20230312T100000
END:DAYLIGHT
BEGIN:STANDARD
TZOFFSETFROM:-0700
TZOFFSETTO:-0800
TZNAME:PST
DTSTART:20231105T090000
END:STANDARD
BEGIN:DAYLIGHT
TZOFFSETFROM:-0800
TZOFFSETTO:-0700
TZNAME:PDT
DTSTART:20240310T100000
END:DAYLIGHT
BEGIN:STANDARD
TZOFFSETFROM:-0700
TZOFFSETTO:-0800
TZNAME:PST
DTSTART:20241103T090000
END:STANDARD
BEGIN:DAYLIGHT
TZOFFSETFROM:-0800
TZOFFSETTO:-0700
TZNAME:PDT
DTSTART:20250309T100000
END:DAYLIGHT
BEGIN:STANDARD
TZOFFSETFROM:-0700
TZOFFSETTO:-0800
TZNAME:PST
DTSTART:20251102T090000
END:STANDARD
END:VTIMEZONE
BEGIN:VEVENT
DTSTART;TZID=America/Vancouver:20240127T100000
DTEND;TZID=America/Vancouver:20240127T120000
DTSTAMP:20260422T031542
CREATED:20230807T180417Z
LAST-MODIFIED:20231229T192848Z
UID:401-1706349600-1706356800@makingfamilyhistory.com
SUMMARY:Excel for Genealogists: Unleash the Power of Spreadsheets In Your Family Research
DESCRIPTION:Are you tirelessly collecting information from websites\, census records\, and archives to enrich your family history? Wondering how to efficiently manage and track all that information? Enter Excel: a tool every genealogist can use to improve their research\, but often find overwhelming.\n\nIn this session led by Mark Thompson and hosted by the Victoria Genealogical Society\, you’ll receive straightforward\, actionable guidance on harnessing Excel to elevate your genealogy research. Illustrated with real-world examples\, learn how to use this powerful tool to organize\, track\, and analyze your family history findings with ease.
URL:https://makingfamilyhistory.com/event/excel-for-genealogists/
LOCATION:Virtual Event
CATEGORIES:Genealogy Tools
ATTACH;FMTTYPE=image/png:https://makingfamilyhistory.com/wp-content/uploads/2023/08/Excel-Logo-In-an-Old-Scroll-compressed.png
END:VEVENT
END:VCALENDAR